BEGIN:VCALENDAR
VERSION:2.0
PRODID:-//Rotary Club Of Warwick - ECPv4.9.4//NONSGML v1.0//EN
CALSCALE:GREGORIAN
METHOD:PUBLISH
X-WR-CALNAME:Rotary Club Of Warwick
X-ORIGINAL-URL:https://www.warwickrotary.org.uk
X-WR-CALDESC:Events for Rotary Club Of Warwick
BEGIN:VTIMEZONE
TZID:"UTC"
BEGIN:STANDARD
TZOFFSETFROM:+0000
TZOFFSETTO:+0000
TZNAME:UTC
DTSTART:20180101T000000
END:STANDARD
END:VTIMEZONE
BEGIN:VEVENT
DTSTART;TZID="UTC":20180620T124500
DTEND;TZID="UTC":20180620T140000
DTSTAMP:20260422T165646
CREATED:20180608T135729Z
LAST-MODIFIED:20180608T135729Z
UID:5731-1529498700-1529503200@www.warwickrotary.org.uk
SUMMARY:Club Meeting
DESCRIPTION:In the penultimate meeting before the end of the Rotary Year\, we have our Club Assembly. \nAt this meeting\, the chairmen of the new Rotary Year’s committees present their proposals and aspirations for the year ahead\, and submit their budgets.   At the conclusion of the meeting the Assistant District Governor for Area 3 (Steve McConnell) sums up and adds his own views on all that he has heard. \nIt is a very interesting way of learning how the club works and what it aims to achieve\, and guests are welcome. \n
URL:https://www.warwickrotary.org.uk/event/club-meeting-175/
LOCATION:Hilton Hotel\, Stratford Road\, Warwick\, CV34 6RE
CATEGORIES:Club Lunchtime Meeting
END:VEVENT
END:VCALENDAR