BEGIN:VCALENDAR
VERSION:2.0
PRODID:-//Rotary Club Of Warwick - ECPv4.9.4//NONSGML v1.0//EN
CALSCALE:GREGORIAN
METHOD:PUBLISH
X-WR-CALNAME:Rotary Club Of Warwick
X-ORIGINAL-URL:https://www.warwickrotary.org.uk
X-WR-CALDESC:Events for Rotary Club Of Warwick
BEGIN:VTIMEZONE
TZID:"UTC"
BEGIN:STANDARD
TZOFFSETFROM:+0000
TZOFFSETTO:+0000
TZNAME:UTC
DTSTART:20190101T000000
END:STANDARD
END:VTIMEZONE
BEGIN:VEVENT
DTSTART;TZID="UTC":20190710T124500
DTEND;TZID="UTC":20190710T140000
DTSTAMP:20260422T060904
CREATED:20190524T103547Z
LAST-MODIFIED:20190524T103547Z
UID:6577-1562762700-1562767200@www.warwickrotary.org.uk
SUMMARY:Club Meeting
DESCRIPTION:Opening up a new world to many\, Eleanor Stratton\, the GB Frisbee Champion\, talks about her interest in this activity. \n
URL:https://www.warwickrotary.org.uk/event/club-meeting-214/
LOCATION:Hilton Hotel\, Stratford Road\, Warwick\, CV34 6RE
CATEGORIES:Club Lunchtime Meeting
END:VEVENT
END:VCALENDAR