BEGIN:VCALENDAR
VERSION:2.0
PRODID:-//Rotary Club Of Warwick - ECPv4.9.4//NONSGML v1.0//EN
CALSCALE:GREGORIAN
METHOD:PUBLISH
X-WR-CALNAME:Rotary Club Of Warwick
X-ORIGINAL-URL:https://www.warwickrotary.org.uk
X-WR-CALDESC:Events for Rotary Club Of Warwick
BEGIN:VTIMEZONE
TZID:"UTC"
BEGIN:STANDARD
TZOFFSETFROM:+0000
TZOFFSETTO:+0000
TZNAME:UTC
DTSTART:20190101T000000
END:STANDARD
END:VTIMEZONE
BEGIN:VEVENT
DTSTART;TZID="UTC":20190731T123000
DTEND;TZID="UTC":20190731T140000
DTSTAMP:20260422T061244
CREATED:20190722T144323Z
LAST-MODIFIED:20190730T104548Z
UID:6745-1564576200-1564581600@www.warwickrotary.org.uk
SUMMARY:Club Meeting
DESCRIPTION:Please note.\nAlthough this is a fifth Wednesday of the month\, there will not be an Evening Meeting.   The club will however meet for a normal lunch-time meeting which is taking the format of an open discussion and an observation get-together\, and will be followed by a brief talk by Alan Bailey on Irish History – if there can be such a thing as a ‘brief talk’ on this subject. \n
URL:https://www.warwickrotary.org.uk/event/club-meeting-216/
LOCATION:Delta Marriott\, formerly Warwick Hilton\, Stratford Road\, Warwick\, CV34 6RE
CATEGORIES:Club Lunchtime Meeting
END:VEVENT
END:VCALENDAR