BEGIN:VCALENDAR
VERSION:2.0
PRODID:-//Rotary Club Of Warwick - ECPv4.9.4//NONSGML v1.0//EN
CALSCALE:GREGORIAN
METHOD:PUBLISH
X-WR-CALNAME:Rotary Club Of Warwick
X-ORIGINAL-URL:https://www.warwickrotary.org.uk
X-WR-CALDESC:Events for Rotary Club Of Warwick
BEGIN:VTIMEZONE
TZID:"UTC"
BEGIN:STANDARD
TZOFFSETFROM:+0000
TZOFFSETTO:+0000
TZNAME:UTC
DTSTART:20200101T000000
END:STANDARD
END:VTIMEZONE
BEGIN:VEVENT
DTSTART;TZID="UTC":20200304T123000
DTEND;TZID="UTC":20200304T140000
DTSTAMP:20260421T233544
CREATED:20200201T112717Z
LAST-MODIFIED:20200205T104203Z
UID:7667-1583325000-1583330400@www.warwickrotary.org.uk
SUMMARY:Club Meeting
DESCRIPTION:The talk today will be given by Marie O’Reilly\, who will speak on the subject of the Clipper Round the World Yacht Race. \nMarie will be joining the crew for the final stages of the event and will tell us about her preparations and all it entails. \n  \n  \nStewards: Paul Jaspal\, Camille Sethi\, Chris Wild \n
URL:https://www.warwickrotary.org.uk/event/club-meeting-219/
LOCATION:Delta Marriott\, formerly Warwick Hilton\, Stratford Road\, Warwick\, CV34 6RE
CATEGORIES:Club Lunchtime Meeting
END:VEVENT
END:VCALENDAR