BEGIN:VCALENDAR
VERSION:2.0
PRODID:-//Rotary Club Of Warwick - ECPv4.9.4//NONSGML v1.0//EN
CALSCALE:GREGORIAN
METHOD:PUBLISH
X-WR-CALNAME:Rotary Club Of Warwick
X-ORIGINAL-URL:https://www.warwickrotary.org.uk
X-WR-CALDESC:Events for Rotary Club Of Warwick
BEGIN:VTIMEZONE
TZID:"UTC"
BEGIN:STANDARD
TZOFFSETFROM:+0000
TZOFFSETTO:+0000
TZNAME:UTC
DTSTART:20140101T000000
END:STANDARD
END:VTIMEZONE
BEGIN:VEVENT
DTSTART;TZID="UTC":20141112T124500
DTEND;TZID="UTC":20141112T140000
DTSTAMP:20260423T235107
CREATED:20140820T145742Z
LAST-MODIFIED:20140820T151344Z
UID:1689-1415796300-1415800800@www.warwickrotary.org.uk
SUMMARY:Club Meeting
DESCRIPTION:The President will host the Civic Lunch\, to which the Chairman of Warwick District Council\, Counc. Clare Sawdon\, and the Mayor of Warwick\, Counc. Moira-Ann Grainger\, have been invited.   They will each give an account of their time in office and of their expectations for the rest of their year. \n
URL:https://www.warwickrotary.org.uk/event/club-meeting-22/
LOCATION:Delta Marriott\, formerly Warwick Hilton\, Stratford Road\, Warwick\, CV34 6RE
CATEGORIES:Club Lunchtime Meeting
END:VEVENT
END:VCALENDAR