BEGIN:VCALENDAR
VERSION:2.0
PRODID:-//Rotary Club Of Warwick - ECPv4.9.4//NONSGML v1.0//EN
CALSCALE:GREGORIAN
METHOD:PUBLISH
X-WR-CALNAME:Rotary Club Of Warwick
X-ORIGINAL-URL:https://www.warwickrotary.org.uk
X-WR-CALDESC:Events for Rotary Club Of Warwick
BEGIN:VTIMEZONE
TZID:"UTC"
BEGIN:STANDARD
TZOFFSETFROM:+0000
TZOFFSETTO:+0000
TZNAME:UTC
DTSTART:20140101T000000
END:STANDARD
END:VTIMEZONE
BEGIN:VEVENT
DTSTART;TZID="UTC":20141224T124500
DTEND;TZID="UTC":20141224T140000
DTSTAMP:20260423T235025
CREATED:20140820T153543Z
LAST-MODIFIED:20140820T154013Z
UID:1696-1419425100-1419429600@www.warwickrotary.org.uk
SUMMARY:Club Meeting
DESCRIPTION:There will be no club meeting on Christmas Eve.\n  \nWe will all be too busy wrapping Christmas presents.\n
URL:https://www.warwickrotary.org.uk/event/club-meeting-28/
CATEGORIES:Club Lunchtime Meeting
END:VEVENT
END:VCALENDAR