BEGIN:VCALENDAR
VERSION:2.0
PRODID:-//Rotary Club Of Warwick - ECPv4.9.4//NONSGML v1.0//EN
CALSCALE:GREGORIAN
METHOD:PUBLISH
X-WR-CALNAME:Rotary Club Of Warwick
X-ORIGINAL-URL:https://www.warwickrotary.org.uk
X-WR-CALDESC:Events for Rotary Club Of Warwick
BEGIN:VTIMEZONE
TZID:"UTC"
BEGIN:STANDARD
TZOFFSETFROM:+0000
TZOFFSETTO:+0000
TZNAME:UTC
DTSTART:20150101T000000
END:STANDARD
END:VTIMEZONE
BEGIN:VEVENT
DTSTART;TZID="UTC":20150304T124500
DTEND;TZID="UTC":20150304T140000
DTSTAMP:20260423T220247
CREATED:20150203T154040Z
LAST-MODIFIED:20150203T154040Z
UID:2125-1425473100-1425477600@www.warwickrotary.org.uk
SUMMARY:Club Meeting
DESCRIPTION:The speaker for the meeting will be Camilla Wood\, who will speak on the subject of Macmillan Cancer Support. \nThe host will be Graham Sutherland \n
URL:https://www.warwickrotary.org.uk/event/club-meeting-38/
LOCATION:Hilton Hotel
CATEGORIES:Club Lunchtime Meeting
END:VEVENT
END:VCALENDAR