BEGIN:VCALENDAR
VERSION:2.0
PRODID:-//Rotary Club Of Warwick - ECPv4.9.4//NONSGML v1.0//EN
CALSCALE:GREGORIAN
METHOD:PUBLISH
X-WR-CALNAME:Rotary Club Of Warwick
X-ORIGINAL-URL:https://www.warwickrotary.org.uk
X-WR-CALDESC:Events for Rotary Club Of Warwick
BEGIN:VTIMEZONE
TZID:"UTC"
BEGIN:STANDARD
TZOFFSETFROM:+0000
TZOFFSETTO:+0000
TZNAME:UTC
DTSTART:20140101T000000
END:STANDARD
END:VTIMEZONE
BEGIN:VEVENT
DTSTART;TZID="UTC":20140702T124500
DTEND;TZID="UTC":20140702T140000
DTSTAMP:20260424T024845
CREATED:20140609T160758Z
LAST-MODIFIED:20140611T174114Z
UID:1534-1404305100-1404309600@www.warwickrotary.org.uk
SUMMARY:Club meeting
DESCRIPTION:A talk by Jeff Reading from Cancer Research UK on the work of this charity. \nCancer Research UK is the chosen charity of incoming President Jackie Crampton \nThe host will be Roy Joyner \n
URL:https://www.warwickrotary.org.uk/event/club-meeting-4/
CATEGORIES:Club Lunchtime Meeting
END:VEVENT
END:VCALENDAR