BEGIN:VCALENDAR
VERSION:2.0
PRODID:-//Rotary Club Of Warwick - ECPv4.9.4//NONSGML v1.0//EN
CALSCALE:GREGORIAN
METHOD:PUBLISH
X-WR-CALNAME:Rotary Club Of Warwick
X-ORIGINAL-URL:https://www.warwickrotary.org.uk
X-WR-CALDESC:Events for Rotary Club Of Warwick
BEGIN:VTIMEZONE
TZID:"UTC"
BEGIN:STANDARD
TZOFFSETFROM:+0000
TZOFFSETTO:+0000
TZNAME:UTC
DTSTART:20150101T000000
END:STANDARD
END:VTIMEZONE
BEGIN:VEVENT
DTSTART;TZID="UTC":20150429T190000
DTEND;TZID="UTC":20150429T220000
DTSTAMP:20260423T185956
CREATED:20150203T154912Z
LAST-MODIFIED:20150217T121105Z
UID:2133-1430334000-1430344800@www.warwickrotary.org.uk
SUMMARY:Club Evening Meeting
DESCRIPTION:This meeting is an International Understanding Evening organised by the International Committee and features Kenya.\nThe main speaker will be Mr David Gallagher and there will be a display of literature and maps provided by the Kenyan Embassy. \nThe meeting is timed for 7pm for 7.30pm and following a three-course meal and coffee\, priced at £15 per head\, the speaker will take the floor.   All Rotarians and other guests are cordially invited and applications for tickets should be made to John Hibben on 01926 427601\, who will also have further information if required. \n
URL:https://www.warwickrotary.org.uk/event/club-meeting-40/
LOCATION:Hilton Hotel
CATEGORIES:Club Evening Meeting
END:VEVENT
END:VCALENDAR