BEGIN:VCALENDAR
VERSION:2.0
PRODID:-//Rotary Club Of Warwick - ECPv4.9.4//NONSGML v1.0//EN
CALSCALE:GREGORIAN
METHOD:PUBLISH
X-WR-CALNAME:Rotary Club Of Warwick
X-ORIGINAL-URL:https://www.warwickrotary.org.uk
X-WR-CALDESC:Events for Rotary Club Of Warwick
BEGIN:VTIMEZONE
TZID:"UTC"
BEGIN:STANDARD
TZOFFSETFROM:+0000
TZOFFSETTO:+0000
TZNAME:UTC
DTSTART:20150101T000000
END:STANDARD
END:VTIMEZONE
BEGIN:VEVENT
DTSTART;TZID="UTC":20150624T124500
DTEND;TZID="UTC":20150624T140000
DTSTAMP:20260423T172335
CREATED:20150303T121241Z
LAST-MODIFIED:20150303T121241Z
UID:2391-1435149900-1435154400@www.warwickrotary.org.uk
SUMMARY:Club Meeting
DESCRIPTION:Handover meeting\, when the outgoing President hands over to the new President\, and when other officers take over. \n  \n
URL:https://www.warwickrotary.org.uk/event/club-meeting-49/
LOCATION:Hilton Hotel
CATEGORIES:Club Lunchtime Meeting
END:VEVENT
END:VCALENDAR