BEGIN:VCALENDAR
VERSION:2.0
PRODID:-//Rotary Club Of Warwick - ECPv4.9.4//NONSGML v1.0//EN
CALSCALE:GREGORIAN
METHOD:PUBLISH
X-WR-CALNAME:Rotary Club Of Warwick
X-ORIGINAL-URL:https://www.warwickrotary.org.uk
X-WR-CALDESC:Events for Rotary Club Of Warwick
BEGIN:VTIMEZONE
TZID:"UTC"
BEGIN:STANDARD
TZOFFSETFROM:+0000
TZOFFSETTO:+0000
TZNAME:UTC
DTSTART:20150101T000000
END:STANDARD
END:VTIMEZONE
BEGIN:VEVENT
DTSTART;TZID="UTC":20150916T124500
DTEND;TZID="UTC":20150916T140000
DTSTAMP:20260423T170613
CREATED:20150723T163648Z
LAST-MODIFIED:20150723T163648Z
UID:2745-1442407500-1442412000@www.warwickrotary.org.uk
SUMMARY:Club Meeting
DESCRIPTION:Christine Hodgetts will talk to the club about\nWarwickshire Gardens Trust\n  \nHer host will be Keith Hinton \n
URL:https://www.warwickrotary.org.uk/event/club-meeting-59/
LOCATION:Hilton Hotel
CATEGORIES:Club Lunchtime Meeting
END:VEVENT
END:VCALENDAR