BEGIN:VCALENDAR
VERSION:2.0
PRODID:-//Rotary Club Of Warwick - ECPv4.9.4//NONSGML v1.0//EN
CALSCALE:GREGORIAN
METHOD:PUBLISH
X-WR-CALNAME:Rotary Club Of Warwick
X-ORIGINAL-URL:https://www.warwickrotary.org.uk
X-WR-CALDESC:Events for Rotary Club Of Warwick
BEGIN:VTIMEZONE
TZID:"UTC"
BEGIN:STANDARD
TZOFFSETFROM:+0000
TZOFFSETTO:+0000
TZNAME:UTC
DTSTART:20150101T000000
END:STANDARD
END:VTIMEZONE
BEGIN:VEVENT
DTSTART;TZID="UTC":20150930T120000
DTEND;TZID="UTC":20150930T150000
DTSTAMP:20260423T165411
CREATED:20150723T164050Z
LAST-MODIFIED:20150824T142015Z
UID:2753-1443614400-1443625200@www.warwickrotary.org.uk
SUMMARY:Club Meeting
DESCRIPTION:Please note.\nThis is the fifth Wednesday in the month and normally there would be an evening meeting.   However\, this has been replaced on this occasion only by a lunchtime meeting and lunch which will take place on board the Countess of Evesham as it cruises on the River Avon at Stratford-upon-Avon. \n  \nTickets are limited and any enquiries should be made by contacting Rotarian John Taylor on 01926 710081 \n
URL:https://www.warwickrotary.org.uk/event/club-meeting-61/
LOCATION:Stratford-upon-Avon
CATEGORIES:Club Lunchtime Meeting
END:VEVENT
END:VCALENDAR