BEGIN:VCALENDAR
VERSION:2.0
PRODID:-//Rotary Club Of Warwick - ECPv4.9.4//NONSGML v1.0//EN
CALSCALE:GREGORIAN
METHOD:PUBLISH
X-WR-CALNAME:Rotary Club Of Warwick
X-ORIGINAL-URL:https://www.warwickrotary.org.uk
X-WR-CALDESC:Events for Rotary Club Of Warwick
BEGIN:VTIMEZONE
TZID:"UTC"
BEGIN:STANDARD
TZOFFSETFROM:+0000
TZOFFSETTO:+0000
TZNAME:UTC
DTSTART:20150101T000000
END:STANDARD
END:VTIMEZONE
BEGIN:VEVENT
DTSTART;TZID="UTC":20151021T004500
DTEND;TZID="UTC":20151021T140000
DTSTAMP:20260423T153241
CREATED:20150727T071844Z
LAST-MODIFIED:20150727T071844Z
UID:2759-1445388300-1445436000@www.warwickrotary.org.uk
SUMMARY:Club Meeting
DESCRIPTION:A talk will be given by Stewart McGill on the work of \nPlaybox Theatre\n  \nThe host will be Trevor Jones \n  \n
URL:https://www.warwickrotary.org.uk/event/club-meeting-63/
LOCATION:Hilton Hotel
CATEGORIES:Club Lunchtime Meeting
END:VEVENT
END:VCALENDAR