BEGIN:VCALENDAR
VERSION:2.0
PRODID:-//Rotary Club Of Warwick - ECPv4.9.4//NONSGML v1.0//EN
CALSCALE:GREGORIAN
METHOD:PUBLISH
X-WR-CALNAME:Rotary Club Of Warwick
X-ORIGINAL-URL:https://www.warwickrotary.org.uk
X-WR-CALDESC:Events for Rotary Club Of Warwick
BEGIN:VTIMEZONE
TZID:"UTC"
BEGIN:STANDARD
TZOFFSETFROM:+0000
TZOFFSETTO:+0000
TZNAME:UTC
DTSTART:20150101T000000
END:STANDARD
END:VTIMEZONE
BEGIN:VEVENT
DTSTART;TZID="UTC":20151104T124500
DTEND;TZID="UTC":20151104T140000
DTSTAMP:20260423T153721
CREATED:20150813T172636Z
LAST-MODIFIED:20150824T142904Z
UID:2863-1446641100-1446645600@www.warwickrotary.org.uk
SUMMARY:Club Meeting
DESCRIPTION:There will be a talk by Neil Hamilton on the work of ‘Safeline’.   His host will be Jackie Crampton \n
URL:https://www.warwickrotary.org.uk/event/club-meeting-68/
LOCATION:Hilton Hotel
CATEGORIES:Club Lunchtime Meeting
END:VEVENT
END:VCALENDAR