BEGIN:VCALENDAR
VERSION:2.0
PRODID:-//Rotary Club Of Warwick - ECPv4.9.4//NONSGML v1.0//EN
CALSCALE:GREGORIAN
METHOD:PUBLISH
X-WR-CALNAME:Rotary Club Of Warwick
X-ORIGINAL-URL:https://www.warwickrotary.org.uk
X-WR-CALDESC:Events for Rotary Club Of Warwick
BEGIN:VTIMEZONE
TZID:"UTC"
BEGIN:STANDARD
TZOFFSETFROM:+0000
TZOFFSETTO:+0000
TZNAME:UTC
DTSTART:20230101T000000
END:STANDARD
END:VTIMEZONE
BEGIN:VEVENT
DTSTART;TZID="UTC":20230531T183000
DTEND;TZID="UTC":20230531T210000
DTSTAMP:20260421T195352
CREATED:20230530T141648Z
LAST-MODIFIED:20230530T141711Z
UID:8912-1685557800-1685566800@www.warwickrotary.org.uk
SUMMARY:Club Social evening at Cape of Good Hope PH
DESCRIPTION: \n
URL:https://www.warwickrotary.org.uk/event/club-social-evening-at-cape-of-good-hope-ph/
LOCATION:Cape of Good Hope\, PH\, Warwick\, 66 Lower Cape\, Warwick\, CV34 5DP\, United Kingdom
CATEGORIES:Club Early Evening Meeting
END:VEVENT
END:VCALENDAR