BEGIN:VCALENDAR
VERSION:2.0
PRODID:-//Rotary Club Of Warwick - ECPv4.9.4//NONSGML v1.0//EN
CALSCALE:GREGORIAN
METHOD:PUBLISH
X-WR-CALNAME:Rotary Club Of Warwick
X-ORIGINAL-URL:https://www.warwickrotary.org.uk
X-WR-CALDESC:Events for Rotary Club Of Warwick
BEGIN:VTIMEZONE
TZID:"UTC"
BEGIN:STANDARD
TZOFFSETFROM:+0000
TZOFFSETTO:+0000
TZNAME:UTC
DTSTART:20230101T000000
END:STANDARD
END:VTIMEZONE
BEGIN:VEVENT
DTSTART;TZID="UTC":20231025T123000
DTEND;TZID="UTC":20231025T140000
DTSTAMP:20260421T230944
CREATED:20231005T144857Z
LAST-MODIFIED:20231005T144857Z
UID:9027-1698237000-1698242400@www.warwickrotary.org.uk
SUMMARY:Club Special General Meeting
DESCRIPTION:Formal meeting to accept accounts for 2022-23 year\, \nand to elect next years President. \nFollowed by monthly Business Meeting. \nAll welcome to join us @£13pp for lunch \n
URL:https://www.warwickrotary.org.uk/event/club-special-general-meeting/
LOCATION:Delta Marriott\, formerly Warwick Hilton\, Stratford Road\, Warwick\, CV34 6RE
CATEGORIES:Club Lunchtime Meeting
END:VEVENT
END:VCALENDAR