BEGIN:VCALENDAR
VERSION:2.0
PRODID:-//Rotary Club Of Warwick - ECPv4.9.4//NONSGML v1.0//EN
CALSCALE:GREGORIAN
METHOD:PUBLISH
X-WR-CALNAME:Rotary Club Of Warwick
X-ORIGINAL-URL:https://www.warwickrotary.org.uk
X-WR-CALDESC:Events for Rotary Club Of Warwick
BEGIN:VTIMEZONE
TZID:"UTC"
BEGIN:STANDARD
TZOFFSETFROM:+0000
TZOFFSETTO:+0000
TZNAME:UTC
DTSTART:20230101T000000
END:STANDARD
END:VTIMEZONE
BEGIN:VEVENT
DTSTART;TZID="UTC":20230719T180000
DTEND;TZID="UTC":20230719T190000
DTSTAMP:20260421T213305
CREATED:20230713T144421Z
LAST-MODIFIED:20230713T144429Z
UID:8971-1689789600-1689793200@www.warwickrotary.org.uk
SUMMARY:Club visit to Lowlands Riding centre for Disabled
DESCRIPTION: \nVisit to HQ of Riding for the Disabled Association at Lowlands Farm Shrewley. \nTHERE IS NO LUNCH MEETING TODAY \nBut we hope to repair to the Durham Ox afterwards for a drink / meal. \nLet me know for numbers if you are joining the visit. \n  \n
URL:https://www.warwickrotary.org.uk/event/club-visit-to-lowlands-riding-centre-for-disabled/
LOCATION:Lowlands Farm\, Shrewley\, CV35 7AX\, Shrewley\, CV35 7AX
CATEGORIES:Outside event
END:VEVENT
END:VCALENDAR