BEGIN:VCALENDAR
VERSION:2.0
PRODID:-//Rotary Club Of Warwick - ECPv4.9.4//NONSGML v1.0//EN
CALSCALE:GREGORIAN
METHOD:PUBLISH
X-WR-CALNAME:Rotary Club Of Warwick
X-ORIGINAL-URL:https://www.warwickrotary.org.uk
X-WR-CALDESC:Events for Rotary Club Of Warwick
BEGIN:VTIMEZONE
TZID:"UTC"
BEGIN:STANDARD
TZOFFSETFROM:+0000
TZOFFSETTO:+0000
TZNAME:UTC
DTSTART:20210101T000000
END:STANDARD
END:VTIMEZONE
BEGIN:VEVENT
DTSTART;TZID="UTC":20210127T130000
DTEND;TZID="UTC":20210127T140000
DTSTAMP:20260421T213058
CREATED:20210121T153521Z
LAST-MODIFIED:20210121T153521Z
UID:8209-1611752400-1611756000@www.warwickrotary.org.uk
SUMMARY:Club Weekly Zoom Meeting
DESCRIPTION:The Warwick Rotary Zoom Meeting will be addressed by two speakers: \n\n Helen Smith\, the founder of Evelyns Gift\, will update the club on the latest position with this charity.  Evelyn’s Gift is continuing to help people in difficulty during the Coronavirus (Covid-19) crisis. The pandemic has put many more individuals and families into crisis situations\, and stark drops in income have pushed many people into acute poverty.\nAlex Pearson from Morrison’s Supermarket will talk about her company’s efforts to support those who are in desperate need of help during the crisis and the way that the general public can assist in this project.\n\n  \nAll are welcome to join the meeting which starts at 1 pm. \nMeeting ID: 895 8144 0147 \nPasscode: 320847 \n  \n
URL:https://www.warwickrotary.org.uk/event/club-weekly-zoom-meeting-3/
LOCATION:A Virtual Meeting
CATEGORIES:Club weekly virtual meeting
END:VEVENT
END:VCALENDAR