BEGIN:VCALENDAR
VERSION:2.0
PRODID:-//Rotary Club Of Warwick - ECPv4.9.4//NONSGML v1.0//EN
CALSCALE:GREGORIAN
METHOD:PUBLISH
X-WR-CALNAME:Rotary Club Of Warwick
X-ORIGINAL-URL:https://www.warwickrotary.org.uk
X-WR-CALDESC:Events for Rotary Club Of Warwick
BEGIN:VTIMEZONE
TZID:"UTC"
BEGIN:STANDARD
TZOFFSETFROM:+0000
TZOFFSETTO:+0000
TZNAME:UTC
DTSTART:20210101T000000
END:STANDARD
END:VTIMEZONE
BEGIN:VEVENT
DTSTART;TZID="UTC":20210203T130000
DTEND;TZID="UTC":20210203T140000
DTSTAMP:20260421T194709
CREATED:20210121T155235Z
LAST-MODIFIED:20210121T155727Z
UID:8211-1612357200-1612360800@www.warwickrotary.org.uk
SUMMARY:Club Weekly Zoom Meeting
DESCRIPTION:This week’s Club Meeting will be addressed by Mr Matthew Watson\, Head of Westgate School\, Warwick. \nWestgate School was recently in the news alongside Warwick Rotary when a Peace Pole was erected at the school in their Peace Garden.  Promoting Peace Education is very much part of the school curriculum\, and teachers have all commented that young people today need opportunities to think about dealing with Conflict.  The Year 6 Children have spent many hours in clearing an overgrown area within their school and with support from Hill Close Gardens are going to create an area where the children will be able to just enjoy the joys of nature and relax in an atmosphere of quiet reflection.  Peace Poles convey a message of encouraging all to work together to create a caring society at home and abroad. \nMatthew will talk of the success of the project and the impact it is having on the school and the pupils. \n  \nAll are welcome to join the meeting which starts at 1 pm. \nMeeting ID: 895 8144 0147 \nPasscode: 320847 \n  \n
URL:https://www.warwickrotary.org.uk/event/club-weekly-zoom-meeting-4/
LOCATION:A Virtual Meeting
CATEGORIES:Club weekly virtual meeting
END:VEVENT
END:VCALENDAR