BEGIN:VCALENDAR
VERSION:2.0
PRODID:-//Rotary Club Of Warwick - ECPv4.9.4//NONSGML v1.0//EN
CALSCALE:GREGORIAN
METHOD:PUBLISH
X-WR-CALNAME:Rotary Club Of Warwick
X-ORIGINAL-URL:https://www.warwickrotary.org.uk
X-WR-CALDESC:Events for Rotary Club Of Warwick
BEGIN:VTIMEZONE
TZID:"UTC"
BEGIN:STANDARD
TZOFFSETFROM:+0000
TZOFFSETTO:+0000
TZNAME:UTC
DTSTART:20200101T000000
END:STANDARD
END:VTIMEZONE
BEGIN:VEVENT
DTSTART;TZID="UTC":20200715T130000
DTEND;TZID="UTC":20200715T140000
DTSTAMP:20260421T230944
CREATED:20200710T143938Z
LAST-MODIFIED:20200710T145047Z
UID:7967-1594818000-1594821600@www.warwickrotary.org.uk
SUMMARY:Club Weekly Zoom Meeting
DESCRIPTION:Playlists for Life – Jim Mathews will talk about creating musical compilations for people with dementia\, bringing memories and comfort to them. \n  \n  \nDue to the Covid-19 Pendemic\, this will be a virtual meeting on Zoom but it is open to all.   Should you wish to join us you will be very welcome. \nPlease contact the club secretary\, Jackie Crampton\, on 01926 492496 for the details. \n
URL:https://www.warwickrotary.org.uk/event/club-weekly-zoom-meeting/
LOCATION:A Virtual Meeting
CATEGORIES:Club weekly virtual meeting
END:VEVENT
END:VCALENDAR