BEGIN:VCALENDAR
VERSION:2.0
PRODID:-//Rotary Club Of Warwick - ECPv4.9.4//NONSGML v1.0//EN
CALSCALE:GREGORIAN
METHOD:PUBLISH
X-WR-CALNAME:Rotary Club Of Warwick
X-ORIGINAL-URL:https://www.warwickrotary.org.uk
X-WR-CALDESC:Events for Rotary Club Of Warwick
BEGIN:VTIMEZONE
TZID:"UTC"
BEGIN:STANDARD
TZOFFSETFROM:+0000
TZOFFSETTO:+0000
TZNAME:UTC
DTSTART:20190101T000000
END:STANDARD
END:VTIMEZONE
BEGIN:VEVENT
DTSTART;TZID="UTC":20190907T080000
DTEND;TZID="UTC":20190907T170000
DTSTAMP:20260422T005813
CREATED:20190905T141842Z
LAST-MODIFIED:20190905T142454Z
UID:6923-1567843200-1567875600@www.warwickrotary.org.uk
SUMMARY:Collection at Warwick Sainsbury's
DESCRIPTION:  \n  \nDuring the day club members will be making a collection in aid of the this year’s Presidents charities \n  \n1.   Graham Fulford Trust – Making people aware of Prostate Cancer \n2.   Warwickshire & Northamptonshire Air Ambulance \n  \n  \n
URL:https://www.warwickrotary.org.uk/event/collection-at-warwick-sainsburys/
LOCATION:Sainsbury\, Warwick
CATEGORIES:Outside event
END:VEVENT
END:VCALENDAR