BEGIN:VCALENDAR
VERSION:2.0
PRODID:-//Rotary Club Of Warwick - ECPv4.9.4//NONSGML v1.0//EN
CALSCALE:GREGORIAN
METHOD:PUBLISH
X-WR-CALNAME:Rotary Club Of Warwick
X-ORIGINAL-URL:https://www.warwickrotary.org.uk
X-WR-CALDESC:Events for Rotary Club Of Warwick
BEGIN:VTIMEZONE
TZID:"UTC"
BEGIN:STANDARD
TZOFFSETFROM:+0000
TZOFFSETTO:+0000
TZNAME:UTC
DTSTART:20150101T000000
END:STANDARD
END:VTIMEZONE
BEGIN:VEVENT
DTSTART;TZID="UTC":20150926T193000
DTEND;TZID="UTC":20150926T214500
DTSTAMP:20260423T152853
CREATED:20150826T191109Z
LAST-MODIFIED:20150826T193114Z
UID:2905-1443295800-1443303900@www.warwickrotary.org.uk
SUMMARY:Concert at St. Nicholas Church
DESCRIPTION:A concert in aid of St. Nicholas’s Church Appeal Fund and the Rotary Club of Warwick\, will be held in the church on Saturday 26th September at 7.30pm . \n  \nThe Oriflamme Ensemble will be conducted by Antoine Mitchell and the programme will include: \nSuite Persane by Andre Caplet \nDezet for Winds by David Loeb (having its UK Premiere) \nand Mozart’s Serenade No.10 in B flat major – K361. \n  \nTickets priced £10 (concessions £8.50) are inclusive of refreshments and are available from Andrea Perkins at the parish office 01926 419905 or by email at stnicswarwick@gmail.com. \n
URL:https://www.warwickrotary.org.uk/event/concert-at-st-nicholas-church/
LOCATION:St. Nicholas’s Church\,\, St. Nicholas Church Street\, Warwick
CATEGORIES:Outside event
END:VEVENT
END:VCALENDAR