BEGIN:VCALENDAR
VERSION:2.0
PRODID:-//Rotary Club Of Warwick - ECPv4.9.4//NONSGML v1.0//EN
CALSCALE:GREGORIAN
METHOD:PUBLISH
X-WR-CALNAME:Rotary Club Of Warwick
X-ORIGINAL-URL:https://www.warwickrotary.org.uk
X-WR-CALDESC:Events for Rotary Club Of Warwick
BEGIN:VTIMEZONE
TZID:"UTC"
BEGIN:STANDARD
TZOFFSETFROM:+0000
TZOFFSETTO:+0000
TZNAME:UTC
DTSTART:20190101T000000
END:STANDARD
END:VTIMEZONE
BEGIN:VEVENT
DTSTART;TZID="UTC":20191012T190000
DTEND;TZID="UTC":20191012T220000
DTSTAMP:20260422T024000
CREATED:20190905T151031Z
LAST-MODIFIED:20190930T093709Z
UID:6953-1570906800-1570917600@www.warwickrotary.org.uk
SUMMARY:Concert by Alcester Male Voice Choir
DESCRIPTION:This concert\, jointly promoted by Warwick Rotary Club and Warwick Avon Rotary Club\, will take place in St Nicholas’ Church\, Warwick at 7pm. \nThe 70 Strong Alcester Male Voice Choir will perform Songs from the Shows\, Last Night of the Proms\, well-known Classics & Hymns\, Popular Songs\, and Sports Anthems. \nFor further information and tickets please contact Margaret Morley on 01926 424935. \nPlease Note:   It is with regret that we have to advise you that this concert has been cancelled.\n
URL:https://www.warwickrotary.org.uk/event/concert-by-alcester-male-voice-choir/
LOCATION:St. Nicholas’s Church\,\, St. Nicholas Church Street\, Warwick
CATEGORIES:Outside event
END:VEVENT
END:VCALENDAR