BEGIN:VCALENDAR
VERSION:2.0
PRODID:-//Rotary Club Of Warwick - ECPv4.9.4//NONSGML v1.0//EN
CALSCALE:GREGORIAN
METHOD:PUBLISH
X-WR-CALNAME:Rotary Club Of Warwick
X-ORIGINAL-URL:https://www.warwickrotary.org.uk
X-WR-CALDESC:Events for Rotary Club Of Warwick
BEGIN:VTIMEZONE
TZID:"UTC"
BEGIN:STANDARD
TZOFFSETFROM:+0000
TZOFFSETTO:+0000
TZNAME:UTC
DTSTART:20230101T000000
END:STANDARD
END:VTIMEZONE
BEGIN:VEVENT
DTSTART;TZID="UTC":20231129T183000
DTEND;TZID="UTC":20231129T203000
DTSTAMP:20260421T181045
CREATED:20231029T124334Z
LAST-MODIFIED:20231029T124334Z
UID:9062-1701282600-1701289800@www.warwickrotary.org.uk
SUMMARY:Evening meeting - Paul Smith - Oxford Natural History Museum
DESCRIPTION:Visiting speaker Paul Smith will introduce us to the collection at the Oxford Natural History Museum. \nMembers and wives will be attending and visitors are welcome – just give me a call to reserve a place. \n
URL:https://www.warwickrotary.org.uk/event/evening-meeting-paul-smith-oxford-natural-history-museum/
LOCATION:Delta Marriott\, formerly Warwick Hilton\, Stratford Road\, Warwick\, CV34 6RE
CATEGORIES:Club Early Evening Meeting
END:VEVENT
END:VCALENDAR