BEGIN:VCALENDAR
VERSION:2.0
PRODID:-//Rotary Club Of Warwick - ECPv4.9.4//NONSGML v1.0//EN
CALSCALE:GREGORIAN
METHOD:PUBLISH
X-WR-CALNAME:Rotary Club Of Warwick
X-ORIGINAL-URL:https://www.warwickrotary.org.uk
X-WR-CALDESC:Events for Rotary Club Of Warwick
BEGIN:VTIMEZONE
TZID:"UTC"
BEGIN:STANDARD
TZOFFSETFROM:+0000
TZOFFSETTO:+0000
TZNAME:UTC
DTSTART:20230101T000000
END:STANDARD
END:VTIMEZONE
BEGIN:VEVENT
DTSTART;TZID="UTC":20230628T123000
DTEND;TZID="UTC":20230628T140000
DTSTAMP:20260421T230630
CREATED:20230608T160946Z
LAST-MODIFIED:20230608T160946Z
UID:8933-1687955400-1687960800@www.warwickrotary.org.uk
SUMMARY:Handover meeting
DESCRIPTION:At the end of the Rotary year\, President Keith Talbot will hand over office to Alan Bailey. \nPresentation of cheques to his Charities of the year – Safeline and Salvation Army. \nAll welcome to join us. \n
URL:https://www.warwickrotary.org.uk/event/handover-meeting/
LOCATION:Delta Marriott\, formerly Warwick Hilton\, Stratford Road\, Warwick
END:VEVENT
END:VCALENDAR