BEGIN:VCALENDAR
VERSION:2.0
PRODID:-//Rotary Club Of Warwick - ECPv4.9.4//NONSGML v1.0//EN
CALSCALE:GREGORIAN
METHOD:PUBLISH
X-WR-CALNAME:Rotary Club Of Warwick
X-ORIGINAL-URL:https://www.warwickrotary.org.uk
X-WR-CALDESC:Events for Rotary Club Of Warwick
BEGIN:VTIMEZONE
TZID:"UTC"
BEGIN:STANDARD
TZOFFSETFROM:+0000
TZOFFSETTO:+0000
TZNAME:UTC
DTSTART:20220101T000000
END:STANDARD
END:VTIMEZONE
BEGIN:VEVENT
DTSTART;TZID="UTC":20220330T190000
DTEND;TZID="UTC":20220330T210000
DTSTAMP:20260421T160246
CREATED:20220221T152214Z
LAST-MODIFIED:20220221T152214Z
UID:8526-1648666800-1648674000@www.warwickrotary.org.uk
SUMMARY:International Evening
DESCRIPTION: “Sierra Leone – A Rotarian’s story” Alan Wolstencroft from Banbury RC\n\nAlan first visited Sierra Leone in November 2005 as a volunteer member of Rotary Mission Challenge\, working on a Mercy Ships project.\nRotarians were invited to volunteer with them & “spend 11 days in Sierra Leone and make a real difference”.\nHe thought it would be a “one off” life experience BUT it was life changing and he’s now visited the country 12 times.\nOn his second visit Alan saw the opportunity to work directly with a school\, to fund a much-needed additional classroom.\nAlan has supported 8 schools (to varying degrees)\, a Community football Club and several individuals.\nSince January 2007\, when he funded his first project\, AlansAfrica has been adopted as a Banbury Rotary Club project and has resulted in the funding the building and equipping of 35 classrooms\, 8 toilet blocks and 3 wells as well as many refurbishment projects. Over £315\,000 has been raised.\n\nWe look forward to sharing experiences as Warwick RC has close links with Bo\, Sierra Leone through “One World Link”.\n\nAll are welcome to attend – just let us know so we can reserve a space – contact Keith Talbot e-mail kwgtalbot@btinternet.com\n  \n  \n  \n
URL:https://www.warwickrotary.org.uk/event/international-evening/
LOCATION:Delta Marriott\, formerly Warwick Hilton\, Stratford Road\, Warwick\, CV34 6RE
CATEGORIES:Club Evening Meeting
END:VEVENT
END:VCALENDAR