BEGIN:VCALENDAR
VERSION:2.0
PRODID:-//Rotary Club Of Warwick - ECPv4.9.4//NONSGML v1.0//EN
CALSCALE:GREGORIAN
METHOD:PUBLISH
X-WR-CALNAME:Rotary Club Of Warwick
X-ORIGINAL-URL:https://www.warwickrotary.org.uk
X-WR-CALDESC:Events for Rotary Club Of Warwick
BEGIN:VTIMEZONE
TZID:"UTC"
BEGIN:STANDARD
TZOFFSETFROM:+0000
TZOFFSETTO:+0000
TZNAME:UTC
DTSTART:20230101T000000
END:STANDARD
END:VTIMEZONE
BEGIN:VEVENT
DTSTART;TZID="UTC":20230315T183000
DTEND;TZID="UTC":20230315T203000
DTSTAMP:20260421T111512
CREATED:20230122T162006Z
LAST-MODIFIED:20230303T150403Z
UID:8776-1678905000-1678912200@www.warwickrotary.org.uk
SUMMARY:Jeremy Dibb Warwick a Singing Town
DESCRIPTION:Jeremy Dibb is coming to update us on the projects for 2023 for Warwick a Singing Town. \nAll welcome to join us for the evening \n \n  \n
URL:https://www.warwickrotary.org.uk/event/jeremy-dibb-warwick-a-singing-town/
LOCATION:Delta Marriott\, formerly Warwick Hilton\, Stratford Road\, Warwick
CATEGORIES:Club Early Evening Meeting
END:VEVENT
END:VCALENDAR