BEGIN:VCALENDAR
VERSION:2.0
PRODID:-//Rotary Club Of Warwick - ECPv4.9.4//NONSGML v1.0//EN
CALSCALE:GREGORIAN
METHOD:PUBLISH
X-WR-CALNAME:Rotary Club Of Warwick
X-ORIGINAL-URL:https://www.warwickrotary.org.uk
X-WR-CALDESC:Events for Rotary Club Of Warwick
BEGIN:VTIMEZONE
TZID:"UTC"
BEGIN:STANDARD
TZOFFSETFROM:+0000
TZOFFSETTO:+0000
TZNAME:UTC
DTSTART:20140101T000000
END:STANDARD
END:VTIMEZONE
BEGIN:VEVENT
DTSTART;TZID="UTC":20141214T160000
DTEND;TZID="UTC":20141214T164000
DTSTAMP:20260423T235133
CREATED:20141114T162358Z
LAST-MODIFIED:20141114T162435Z
UID:1867-1418572800-1418575200@www.warwickrotary.org.uk
SUMMARY:Lights of Love Dedication.
DESCRIPTION:Lights of Love Dedication Service.\n  \nA short inter-denominational service will be held in the Market Square at 4pm on Sunday 14th December 2014 to remember all those whose names have been added to the Lights of Love tree this year. \nNo tickets are required and there is no charge.   Everybody will be most welcome. \n
URL:https://www.warwickrotary.org.uk/event/lights-of-love-dedication/
LOCATION:Market Square
CATEGORIES:Outside event
END:VEVENT
END:VCALENDAR