BEGIN:VCALENDAR
VERSION:2.0
PRODID:-//Rotary Club Of Warwick - ECPv4.9.4//NONSGML v1.0//EN
CALSCALE:GREGORIAN
METHOD:PUBLISH
X-WR-CALNAME:Rotary Club Of Warwick
X-ORIGINAL-URL:https://www.warwickrotary.org.uk
X-WR-CALDESC:Events for Rotary Club Of Warwick
BEGIN:VTIMEZONE
TZID:"UTC"
BEGIN:STANDARD
TZOFFSETFROM:+0000
TZOFFSETTO:+0000
TZNAME:UTC
DTSTART:20220101T000000
END:STANDARD
END:VTIMEZONE
BEGIN:VEVENT
DTSTART;TZID="UTC":20221005T123000
DTEND;TZID="UTC":20221005T140000
DTSTAMP:20260421T142430
CREATED:20220927T162827Z
LAST-MODIFIED:20220927T162827Z
UID:8683-1664973000-1664978400@www.warwickrotary.org.uk
SUMMARY:Lunch meeting welcomes new member
DESCRIPTION: \nAll welcome to join us for lunch and celebrate our newest member Malcolm Knowles’ induction into the worldwide fellowship of Rotary \n
URL:https://www.warwickrotary.org.uk/event/lunch-meeting-welcomes-new-member/
LOCATION:Delta Marriott\, formerly Warwick Hilton\, Stratford Road\, Warwick\, CV34 6RE
CATEGORIES:Club Lunchtime Meeting
END:VEVENT
END:VCALENDAR