BEGIN:VCALENDAR
VERSION:2.0
PRODID:-//Rotary Club Of Warwick - ECPv4.9.4//NONSGML v1.0//EN
CALSCALE:GREGORIAN
METHOD:PUBLISH
X-WR-CALNAME:Rotary Club Of Warwick
X-ORIGINAL-URL:https://www.warwickrotary.org.uk
X-WR-CALDESC:Events for Rotary Club Of Warwick
BEGIN:VTIMEZONE
TZID:"UTC"
BEGIN:STANDARD
TZOFFSETFROM:+0000
TZOFFSETTO:+0000
TZNAME:UTC
DTSTART:20240101T000000
END:STANDARD
END:VTIMEZONE
BEGIN:VEVENT
DTSTART;VALUE=DATE:20240508
DTEND;VALUE=DATE:20240509
DTSTAMP:20260421T212705
CREATED:20240502T084258Z
LAST-MODIFIED:20240502T084258Z
UID:9197-1715126400-1715212799@www.warwickrotary.org.uk
SUMMARY:May 8th no meeting
DESCRIPTION:We’re off to Oxford to visit the Natural History Museum! \n
URL:https://www.warwickrotary.org.uk/event/may-8th-no-meeting/
END:VEVENT
END:VCALENDAR