BEGIN:VCALENDAR
VERSION:2.0
PRODID:-//Rotary Club Of Warwick - ECPv4.9.4//NONSGML v1.0//EN
CALSCALE:GREGORIAN
METHOD:PUBLISH
X-WR-CALNAME:Rotary Club Of Warwick
X-ORIGINAL-URL:https://www.warwickrotary.org.uk
X-WR-CALDESC:Events for Rotary Club Of Warwick
BEGIN:VTIMEZONE
TZID:"UTC"
BEGIN:STANDARD
TZOFFSETFROM:+0000
TZOFFSETTO:+0000
TZNAME:UTC
DTSTART:20230101T000000
END:STANDARD
END:VTIMEZONE
BEGIN:VEVENT
DTSTART;TZID="UTC":20230208T183000
DTEND;TZID="UTC":20230208T210000
DTSTAMP:20260421T125921
CREATED:20230122T160724Z
LAST-MODIFIED:20230122T162725Z
UID:8761-1675881000-1675890000@www.warwickrotary.org.uk
SUMMARY:Meritorious Award presentation to Polish centre
DESCRIPTION:This year’s award will be presented to Leamington Polish centre for their work supporting Ukraine this year. \nAll welcome to join us. \n  \n  \n \n
URL:https://www.warwickrotary.org.uk/event/meritorious-award-presentation-to-polish-centre/
LOCATION:Delta Marriott\, formerly Warwick Hilton\, Stratford Road\, Warwick
CATEGORIES:Club Evening Meeting
END:VEVENT
END:VCALENDAR