BEGIN:VCALENDAR
VERSION:2.0
PRODID:-//Rotary Club Of Warwick - ECPv4.9.4//NONSGML v1.0//EN
CALSCALE:GREGORIAN
METHOD:PUBLISH
X-WR-CALNAME:Rotary Club Of Warwick
X-ORIGINAL-URL:https://www.warwickrotary.org.uk
X-WR-CALDESC:Events for Rotary Club Of Warwick
BEGIN:VTIMEZONE
TZID:"UTC"
BEGIN:STANDARD
TZOFFSETFROM:+0000
TZOFFSETTO:+0000
TZNAME:UTC
DTSTART:20250101T000000
END:STANDARD
END:VTIMEZONE
BEGIN:VEVENT
DTSTART;TZID="UTC":20250312T183000
DTEND;TZID="UTC":20250312T203000
DTSTAMP:20260421T180714
CREATED:20250205T174331Z
LAST-MODIFIED:20250205T174331Z
UID:9504-1741804200-1741811400@www.warwickrotary.org.uk
SUMMARY:Meritorious Award - Tony Britton
DESCRIPTION:Warwick Rotary Awards Tony Britton with it’s meritorious award for setting up the Pam Britton Trust for dementia. \nAll welcome to join us. \n \n  \n
URL:https://www.warwickrotary.org.uk/event/meritorious-award-tony-britton/
LOCATION:Racehorse PH\, Stratford Road\, Warwick\, Stratford Road\, Warwick\, CV34 6AS
END:VEVENT
END:VCALENDAR