BEGIN:VCALENDAR
VERSION:2.0
PRODID:-//Rotary Club Of Warwick - ECPv4.9.4//NONSGML v1.0//EN
CALSCALE:GREGORIAN
METHOD:PUBLISH
X-WR-CALNAME:Rotary Club Of Warwick
X-ORIGINAL-URL:https://www.warwickrotary.org.uk
X-WR-CALDESC:Events for Rotary Club Of Warwick
BEGIN:VTIMEZONE
TZID:"UTC"
BEGIN:STANDARD
TZOFFSETFROM:+0000
TZOFFSETTO:+0000
TZNAME:UTC
DTSTART:20240101T000000
END:STANDARD
END:VTIMEZONE
BEGIN:VEVENT
DTSTART;TZID="UTC":20240313T183000
DTEND;TZID="UTC":20240313T203000
DTSTAMP:20260421T180441
CREATED:20240130T165454Z
LAST-MODIFIED:20240130T165507Z
UID:9164-1710354600-1710361800@www.warwickrotary.org.uk
SUMMARY:Meritorious Award
DESCRIPTION:Club makes award each year to a person who has excelled in service to others.\nSue Melville from Sainsbury’s Leamington has sent hundreds of Shoeboxes to Eastern Europe since 1989 and works alongside Rotary Shoebox who deliver them to children and the elderly in need. All welcome to join us to celebrate her achievement. \n                           \n
URL:https://www.warwickrotary.org.uk/event/meritorious-award/
LOCATION:Delta Marriott\, formerly Warwick Hilton\, Stratford Road\, Warwick\, CV34 6RE
CATEGORIES:Club Early Evening Meeting
END:VEVENT
END:VCALENDAR