BEGIN:VCALENDAR
VERSION:2.0
PRODID:-//Rotary Club Of Warwick - ECPv4.9.4//NONSGML v1.0//EN
CALSCALE:GREGORIAN
METHOD:PUBLISH
X-WR-CALNAME:Rotary Club Of Warwick
X-ORIGINAL-URL:https://www.warwickrotary.org.uk
X-WR-CALDESC:Events for Rotary Club Of Warwick
BEGIN:VTIMEZONE
TZID:"UTC"
BEGIN:STANDARD
TZOFFSETFROM:+0000
TZOFFSETTO:+0000
TZNAME:UTC
DTSTART:20230101T000000
END:STANDARD
END:VTIMEZONE
BEGIN:VEVENT
DTSTART;TZID="UTC":20230620T183000
DTEND;TZID="UTC":20230620T200000
DTSTAMP:20260421T231302
CREATED:20230605T130815Z
LAST-MODIFIED:20230605T130815Z
UID:8918-1687285800-1687291200@www.warwickrotary.org.uk
SUMMARY:Midsummer Schools Concert at St Marys
DESCRIPTION:Annual concert returns to St Marys  providing an opportunity for local children to perform for parents and public. \nAn inspiring evening of song\, dance\, and instrumentals. \nTickets available from participating schools\, Claridges and the Tourist Office. \n£6 Adults £1 children under 16 \n  \n
URL:https://www.warwickrotary.org.uk/event/midsummer-schools-concert-at-st-marys/
LOCATION:St Marys Collegiate Church\, Warwick\, Church Street\, Warwkck
CATEGORIES:Outside event
ORGANIZER;CN="Laurie%20Day%2C%2001926%20410%20891":MAILTO:laurieday34@gmail.com
END:VEVENT
END:VCALENDAR