BEGIN:VCALENDAR
VERSION:2.0
PRODID:-//Rotary Club Of Warwick - ECPv4.9.4//NONSGML v1.0//EN
CALSCALE:GREGORIAN
METHOD:PUBLISH
X-WR-CALNAME:Rotary Club Of Warwick
X-ORIGINAL-URL:https://www.warwickrotary.org.uk
X-WR-CALDESC:Events for Rotary Club Of Warwick
BEGIN:VTIMEZONE
TZID:"UTC"
BEGIN:STANDARD
TZOFFSETFROM:+0000
TZOFFSETTO:+0000
TZNAME:UTC
DTSTART:20250101T000000
END:STANDARD
END:VTIMEZONE
BEGIN:VEVENT
DTSTART;TZID="UTC":20250409T183000
DTEND;TZID="UTC":20250409T203000
DTSTAMP:20260421T162551
CREATED:20250405T091854Z
LAST-MODIFIED:20250405T091854Z
UID:9537-1744223400-1744230600@www.warwickrotary.org.uk
SUMMARY:Monstrous regiments - women in the army -
DESCRIPTION:Graham Evans will present a light hearted talk from Civil War times about women\, transvestites and cross dressing cavaliers! \n(Apparently it’s diversity month.) \nAll welcome to join us\, there will be a meal at 7pm followed by the speaker. \n
URL:https://www.warwickrotary.org.uk/event/monstrous-regiments-women-in-the-army/
LOCATION:The Racehorse PH Warwick\, West Street\, Warwick\, Warwickshire\, United Kingdom
CATEGORIES:Club Early Evening Meeting
END:VEVENT
END:VCALENDAR