BEGIN:VCALENDAR
VERSION:2.0
PRODID:-//Rotary Club Of Warwick - ECPv4.9.4//NONSGML v1.0//EN
CALSCALE:GREGORIAN
METHOD:PUBLISH
X-WR-CALNAME:Rotary Club Of Warwick
X-ORIGINAL-URL:https://www.warwickrotary.org.uk
X-WR-CALDESC:Events for Rotary Club Of Warwick
BEGIN:VTIMEZONE
TZID:"UTC"
BEGIN:STANDARD
TZOFFSETFROM:+0000
TZOFFSETTO:+0000
TZNAME:UTC
DTSTART:20250101T000000
END:STANDARD
END:VTIMEZONE
BEGIN:VEVENT
DTSTART;TZID="UTC":20250416T123000
DTEND;TZID="UTC":20250416T140000
DTSTAMP:20260421T181017
CREATED:20250405T092241Z
LAST-MODIFIED:20250412T073130Z
UID:9541-1744806600-1744812000@www.warwickrotary.org.uk
SUMMARY:Dr Nnedi Dede-Konkwo  visit to Bo\, Sierra Leone
DESCRIPTION:Dr Nnedi Dede-Konkwo visited Bo in Sierra Leone in February on behalf of one World Link and is coming to tell us about the hospital there. \n
URL:https://www.warwickrotary.org.uk/event/motorbike-trekking-in-nepal/
LOCATION:The Racehorse PH Warwick\, West Street\, Warwick\, Warwickshire\, United Kingdom
CATEGORIES:Club Lunchtime Meeting
END:VEVENT
END:VCALENDAR