BEGIN:VCALENDAR
VERSION:2.0
PRODID:-//Rotary Club Of Warwick - ECPv4.9.4//NONSGML v1.0//EN
CALSCALE:GREGORIAN
METHOD:PUBLISH
X-WR-CALNAME:Rotary Club Of Warwick
X-ORIGINAL-URL:https://www.warwickrotary.org.uk
X-WR-CALDESC:Events for Rotary Club Of Warwick
BEGIN:VTIMEZONE
TZID:"UTC"
BEGIN:STANDARD
TZOFFSETFROM:+0000
TZOFFSETTO:+0000
TZNAME:UTC
DTSTART:20250101T000000
END:STANDARD
END:VTIMEZONE
BEGIN:VEVENT
DTSTART;TZID="UTC":20250212T183000
DTEND;TZID="UTC":20250212T200000
DTSTAMP:20260421T180601
CREATED:20250205T165546Z
LAST-MODIFIED:20250205T165558Z
UID:9487-1739385000-1739390400@www.warwickrotary.org.uk
SUMMARY:Myton Hospices
DESCRIPTION:Rachel Ryan from Myton Hospices is coming to tell us about their work and funding needs. \nAll welcome to join us. \n \n
URL:https://www.warwickrotary.org.uk/event/myton-hospices/
LOCATION:Racehorse PH\, Stratford Road\, Warwick\, Stratford Road\, Warwick\, CV34 6AS
CATEGORIES:Club Early Evening Meeting
ORGANIZER;CN="Jon%20Wassall":MAILTO:j.wassall@btinternet.com
END:VEVENT
END:VCALENDAR