BEGIN:VCALENDAR
VERSION:2.0
PRODID:-//Rotary Club Of Warwick - ECPv4.9.4//NONSGML v1.0//EN
CALSCALE:GREGORIAN
METHOD:PUBLISH
X-WR-CALNAME:Rotary Club Of Warwick
X-ORIGINAL-URL:https://www.warwickrotary.org.uk
X-WR-CALDESC:Events for Rotary Club Of Warwick
BEGIN:VTIMEZONE
TZID:"UTC"
BEGIN:STANDARD
TZOFFSETFROM:+0000
TZOFFSETTO:+0000
TZNAME:UTC
DTSTART:20230101T000000
END:STANDARD
END:VTIMEZONE
BEGIN:VEVENT
DTSTART;TZID="UTC":20230215T123000
DTEND;TZID="UTC":20230215T140000
DTSTAMP:20260421T111629
CREATED:20230122T160949Z
LAST-MODIFIED:20230122T162714Z
UID:8766-1676464200-1676469600@www.warwickrotary.org.uk
SUMMARY:No meeting today - Youth Speaks in evening
DESCRIPTION:No lunch today as we are all running the Youths Speaks contest later on \n
URL:https://www.warwickrotary.org.uk/event/no-meeting-today-youth-speaks-in-evening/
END:VEVENT
END:VCALENDAR