BEGIN:VCALENDAR
VERSION:2.0
PRODID:-//Rotary Club Of Warwick - ECPv4.9.4//NONSGML v1.0//EN
CALSCALE:GREGORIAN
METHOD:PUBLISH
X-WR-CALNAME:Rotary Club Of Warwick
X-ORIGINAL-URL:https://www.warwickrotary.org.uk
X-WR-CALDESC:Events for Rotary Club Of Warwick
BEGIN:VTIMEZONE
TZID:"UTC"
BEGIN:STANDARD
TZOFFSETFROM:+0000
TZOFFSETTO:+0000
TZNAME:UTC
DTSTART:20220101T000000
END:STANDARD
END:VTIMEZONE
BEGIN:VEVENT
DTSTART;TZID="UTC":20220202T123000
DTEND;TZID="UTC":20220202T140000
DTSTAMP:20260421T160301
CREATED:20220127T150205Z
LAST-MODIFIED:20220127T150205Z
UID:8481-1643805000-1643810400@www.warwickrotary.org.uk
SUMMARY:No meeting
DESCRIPTION:Sorry we are not meeting this week as we are all off doing a Youth Speaks competition \nwith local young people. This is not a public event\, but reports will be published. \n
URL:https://www.warwickrotary.org.uk/event/no-meeting/
LOCATION:Delta Marriott\, formerly Warwick Hilton\, Stratford Road\, Warwick\, CV34 6RE
END:VEVENT
END:VCALENDAR