BEGIN:VCALENDAR
VERSION:2.0
PRODID:-//Rotary Club Of Warwick - ECPv4.9.4//NONSGML v1.0//EN
CALSCALE:GREGORIAN
METHOD:PUBLISH
X-WR-CALNAME:Rotary Club Of Warwick
X-ORIGINAL-URL:https://www.warwickrotary.org.uk
X-WR-CALDESC:Events for Rotary Club Of Warwick
BEGIN:VTIMEZONE
TZID:"UTC"
BEGIN:STANDARD
TZOFFSETFROM:+0000
TZOFFSETTO:+0000
TZNAME:UTC
DTSTART:20250101T000000
END:STANDARD
END:VTIMEZONE
BEGIN:VEVENT
DTSTART;TZID="UTC":20250219T123000
DTEND;TZID="UTC":20250219T143000
DTSTAMP:20260421T194226
CREATED:20250205T170407Z
LAST-MODIFIED:20250205T170412Z
UID:9491-1739968200-1739975400@www.warwickrotary.org.uk
SUMMARY:Packmores Community Centre
DESCRIPTION:Amanda Burford and Janette Eslick are coming to tell us about the project to build a new Community Centre for Packmores Estate in Warwick. Planning permission has been granted so they are about to start fundraising. \nAll welcome to hear about these proposals \n \n
URL:https://www.warwickrotary.org.uk/event/packmores-community-centre/
LOCATION:Racehorse PH\, Stratford Road\, Warwick\, Stratford Road\, Warwick\, CV34 6AS
CATEGORIES:Club Lunchtime Meeting
ORGANIZER;CN="Jon%20Wassall":MAILTO:j.wassall@btinternet.com
END:VEVENT
END:VCALENDAR