BEGIN:VCALENDAR
VERSION:2.0
PRODID:-//Rotary Club Of Warwick - ECPv4.9.4//NONSGML v1.0//EN
CALSCALE:GREGORIAN
METHOD:PUBLISH
X-WR-CALNAME:Rotary Club Of Warwick
X-ORIGINAL-URL:https://www.warwickrotary.org.uk
X-WR-CALDESC:Events for Rotary Club Of Warwick
BEGIN:VTIMEZONE
TZID:"UTC"
BEGIN:STANDARD
TZOFFSETFROM:+0000
TZOFFSETTO:+0000
TZNAME:UTC
DTSTART:20240101T000000
END:STANDARD
END:VTIMEZONE
BEGIN:VEVENT
DTSTART;TZID="UTC":20240220T130000
DTEND;TZID="UTC":20240220T143000
DTSTAMP:20260421T212914
CREATED:20240119T153716Z
LAST-MODIFIED:20240119T153716Z
UID:9156-1708434000-1708439400@www.warwickrotary.org.uk
SUMMARY:Pancake Races Feb 20th
DESCRIPTION:Lots of fun to be had Tuesday lunchtime – come and join us – you can even put a team together and compete. \nThe Mayor will be setting off children from local primary schools in a series of races in the square\, after local businesses have shown them how! \n \n
URL:https://www.warwickrotary.org.uk/event/pancake-races-feb-20th/
LOCATION:Warwick Market Place
CATEGORIES:Outside event
END:VEVENT
END:VCALENDAR