BEGIN:VCALENDAR
VERSION:2.0
PRODID:-//Rotary Club Of Warwick - ECPv4.9.4//NONSGML v1.0//EN
CALSCALE:GREGORIAN
METHOD:PUBLISH
X-WR-CALNAME:Rotary Club Of Warwick
X-ORIGINAL-URL:https://www.warwickrotary.org.uk
X-WR-CALDESC:Events for Rotary Club Of Warwick
BEGIN:VTIMEZONE
TZID:"UTC"
BEGIN:STANDARD
TZOFFSETFROM:+0000
TZOFFSETTO:+0000
TZNAME:UTC
DTSTART:20180101T000000
END:STANDARD
END:VTIMEZONE
BEGIN:VEVENT
DTSTART;TZID="UTC":20180520T123000
DTEND;TZID="UTC":20180520T160000
DTSTAMP:20260422T164956
CREATED:20180409T150004Z
LAST-MODIFIED:20180409T150017Z
UID:5587-1526819400-1526832000@www.warwickrotary.org.uk
SUMMARY:President's Lunch
DESCRIPTION:President John Hibben\, together with his wife Norma\, will be hosting his President’s Lunch at the Glebe Hotel\, Barford. \nFull details are yet to be announced but it is an occasion when members and their partners come together to thank the President for  all his hard work during his period in office. \nJohn has worked extremely hard during his year and has attended numerous events outside Rotary as well as attending functions at many local Rotary Clubs.   He has been ably supported by Norma and has raised considerable money for his two charities – The Stroke Association and Macmillan Cancer Support. \n
URL:https://www.warwickrotary.org.uk/event/presidents-lunch-2/
LOCATION:Glebe Hotel\, Barford\, Warwick
CATEGORIES:Club Lunchtime Meeting
END:VEVENT
END:VCALENDAR