BEGIN:VCALENDAR
VERSION:2.0
PRODID:-//Rotary Club Of Warwick - ECPv4.9.4//NONSGML v1.0//EN
CALSCALE:GREGORIAN
METHOD:PUBLISH
X-WR-CALNAME:Rotary Club Of Warwick
X-ORIGINAL-URL:https://www.warwickrotary.org.uk
X-WR-CALDESC:Events for Rotary Club Of Warwick
BEGIN:VTIMEZONE
TZID:"UTC"
BEGIN:STANDARD
TZOFFSETFROM:+0000
TZOFFSETTO:+0000
TZNAME:UTC
DTSTART:20240101T000000
END:STANDARD
END:VTIMEZONE
BEGIN:VEVENT
DTSTART;TZID="UTC":20240717T123000
DTEND;TZID="UTC":20240717T140000
DTSTAMP:20260421T194456
CREATED:20240706T101650Z
LAST-MODIFIED:20240706T101706Z
UID:9287-1721219400-1721224800@www.warwickrotary.org.uk
SUMMARY:Prof David Smith - Geology & Geneology
DESCRIPTION:Prof David Smith has chosen to talk about his favorite subject and lifetime work. \nAll welcome to join us – there will be a light lunch at 1pm \n
URL:https://www.warwickrotary.org.uk/event/prof-david-smith-geology-geneology/
LOCATION:Delta Marriott\, formerly Warwick Hilton\, Stratford Road\, Warwick\, CV34 6RE
CATEGORIES:Club Lunchtime Meeting
END:VEVENT
END:VCALENDAR