BEGIN:VCALENDAR
VERSION:2.0
PRODID:-//Rotary Club Of Warwick - ECPv4.9.4//NONSGML v1.0//EN
CALSCALE:GREGORIAN
METHOD:PUBLISH
X-WR-CALNAME:Rotary Club Of Warwick
X-ORIGINAL-URL:https://www.warwickrotary.org.uk
X-WR-CALDESC:Events for Rotary Club Of Warwick
BEGIN:VTIMEZONE
TZID:"UTC"
BEGIN:STANDARD
TZOFFSETFROM:+0000
TZOFFSETTO:+0000
TZNAME:UTC
DTSTART:20190101T000000
END:STANDARD
END:VTIMEZONE
BEGIN:VEVENT
DTSTART;TZID="UTC":20190620T183000
DTEND;TZID="UTC":20190620T204500
DTSTAMP:20260422T074013
CREATED:20190603T094305Z
LAST-MODIFIED:20190603T094534Z
UID:6599-1561055400-1561063500@www.warwickrotary.org.uk
SUMMARY:PSA Testing
DESCRIPTION:Checking for Prostate Cancer\nWhy not have a check-up? \nSee the attached poster for details. \nPSA Testing – June 2019 \n
URL:https://www.warwickrotary.org.uk/event/psa-testing/
LOCATION:The Nelson Club\, Charles Street
CATEGORIES:Outside event
END:VEVENT
END:VCALENDAR