BEGIN:VCALENDAR
VERSION:2.0
PRODID:-//Rotary Club Of Warwick - ECPv4.9.4//NONSGML v1.0//EN
CALSCALE:GREGORIAN
METHOD:PUBLISH
X-WR-CALNAME:Rotary Club Of Warwick
X-ORIGINAL-URL:https://www.warwickrotary.org.uk
X-WR-CALDESC:Events for Rotary Club Of Warwick
BEGIN:VTIMEZONE
TZID:"UTC"
BEGIN:STANDARD
TZOFFSETFROM:+0000
TZOFFSETTO:+0000
TZNAME:UTC
DTSTART:20230101T000000
END:STANDARD
END:VTIMEZONE
BEGIN:VEVENT
DTSTART;TZID="UTC":20230308T183000
DTEND;TZID="UTC":20230308T203000
DTSTAMP:20260421T111435
CREATED:20230303T145453Z
LAST-MODIFIED:20230303T150316Z
UID:8814-1678300200-1678307400@www.warwickrotary.org.uk
SUMMARY:Rachel Eslick - travel grant
DESCRIPTION:Local 6th former Rachel was given a Travel grant towards her travel costs to visit Fiji and explore local wildlife prior to studying to be a vet. \nShe returns to tell club about her experiences \n
URL:https://www.warwickrotary.org.uk/event/rachel-eslick-travel-grant/
LOCATION:Delta Marriott\, formerly Warwick Hilton\, Stratford Road\, Warwick\, CV34 6RE
CATEGORIES:Club Early Evening Meeting
END:VEVENT
END:VCALENDAR