BEGIN:VCALENDAR
VERSION:2.0
PRODID:-//Rotary Club Of Warwick - ECPv4.9.4//NONSGML v1.0//EN
CALSCALE:GREGORIAN
METHOD:PUBLISH
X-WR-CALNAME:Rotary Club Of Warwick
X-ORIGINAL-URL:https://www.warwickrotary.org.uk
X-WR-CALDESC:Events for Rotary Club Of Warwick
BEGIN:VTIMEZONE
TZID:"UTC"
BEGIN:STANDARD
TZOFFSETFROM:+0000
TZOFFSETTO:+0000
TZNAME:UTC
DTSTART:20230101T000000
END:STANDARD
END:VTIMEZONE
BEGIN:VEVENT
DTSTART;TZID="UTC":20230329T190000
DTEND;TZID="UTC":20230329T210000
DTSTAMP:20260421T123639
CREATED:20230122T162540Z
LAST-MODIFIED:20230303T154808Z
UID:8780-1680116400-1680123600@www.warwickrotary.org.uk
SUMMARY:Romanian Evening - rescuing a child
DESCRIPTION:Anthony Cleary talks about his mission in 1990 to rescue\, just one child from the aftermath of Caescue’s regime. \nA very personal memoire. \nAll welcome to join us\, contact Jackie Crampton to reserve a place \n \n
URL:https://www.warwickrotary.org.uk/event/romanian-evening-rescuing-a-child/
LOCATION:Delta Marriott\, formerly Warwick Hilton\, Stratford Road\, Warwick\, CV34 6RE
CATEGORIES:Club Evening Meeting
END:VEVENT
END:VCALENDAR