BEGIN:VCALENDAR
VERSION:2.0
PRODID:-//Rotary Club Of Warwick - ECPv4.9.4//NONSGML v1.0//EN
CALSCALE:GREGORIAN
METHOD:PUBLISH
X-WR-CALNAME:Rotary Club Of Warwick
X-ORIGINAL-URL:https://www.warwickrotary.org.uk
X-WR-CALDESC:Events for Rotary Club Of Warwick
BEGIN:VTIMEZONE
TZID:"UTC"
BEGIN:STANDARD
TZOFFSETFROM:+0000
TZOFFSETTO:+0000
TZNAME:UTC
DTSTART:20220101T000000
END:STANDARD
END:VTIMEZONE
BEGIN:VEVENT
DTSTART;TZID="UTC":20221109T180000
DTEND;TZID="UTC":20221109T200000
DTSTAMP:20260421T141903
CREATED:20220930T142222Z
LAST-MODIFIED:20220930T145022Z
UID:8701-1668016800-1668024000@www.warwickrotary.org.uk
SUMMARY:Galanos House\, Southam\, Royal British Legion home
DESCRIPTION:         \n  \nAll welcome to join us for this open evening. \nMs Jo-Anne Wilson manager of  Galanos House Royal British Legion will be telling  us more about this care home. \n
URL:https://www.warwickrotary.org.uk/event/royal-british-legion-remembrance-day/
LOCATION:Delta Marriott\, formerly Warwick Hilton\, Stratford Road\, Warwick\, CV34 6RE
CATEGORIES:Club Early Evening Meeting
ORGANIZER;CN="Keith%20Talbot":MAILTO:kwgtalbot@btinternet.com
END:VEVENT
END:VCALENDAR