BEGIN:VCALENDAR
VERSION:2.0
PRODID:-//Rotary Club Of Warwick - ECPv4.9.4//NONSGML v1.0//EN
CALSCALE:GREGORIAN
METHOD:PUBLISH
X-WR-CALNAME:Rotary Club Of Warwick
X-ORIGINAL-URL:https://www.warwickrotary.org.uk
X-WR-CALDESC:Events for Rotary Club Of Warwick
BEGIN:VTIMEZONE
TZID:"UTC"
BEGIN:STANDARD
TZOFFSETFROM:+0000
TZOFFSETTO:+0000
TZNAME:UTC
DTSTART:20230101T000000
END:STANDARD
END:VTIMEZONE
BEGIN:VEVENT
DTSTART;TZID="UTC":20230104T123000
DTEND;TZID="UTC":20230104T140000
DTSTAMP:20260421T140652
CREATED:20220930T140615Z
LAST-MODIFIED:20221206T165651Z
UID:8691-1672835400-1672840800@www.warwickrotary.org.uk
SUMMARY:Salvation Army speaker\, moved to 4th Jan due to illness
DESCRIPTION: \nKit Mayston-King from Leamington Salvation Army will tell us about their work with the homeless. \nThey are one of President Keith Talbot’s charities for the year. \nAll welcome to join us. \n
URL:https://www.warwickrotary.org.uk/event/salvation-army-speaker/
LOCATION:Delta Marriott\, formerly Warwick Hilton\, Stratford Road\, Warwick\, CV34 6RE
CATEGORIES:Club Lunchtime Meeting
END:VEVENT
END:VCALENDAR