BEGIN:VCALENDAR
VERSION:2.0
PRODID:-//Rotary Club Of Warwick - ECPv4.9.4//NONSGML v1.0//EN
CALSCALE:GREGORIAN
METHOD:PUBLISH
X-WR-CALNAME:Rotary Club Of Warwick
X-ORIGINAL-URL:https://www.warwickrotary.org.uk
X-WR-CALDESC:Events for Rotary Club Of Warwick
BEGIN:VTIMEZONE
TZID:"UTC"
BEGIN:STANDARD
TZOFFSETFROM:+0000
TZOFFSETTO:+0000
TZNAME:UTC
DTSTART:20170101T000000
END:STANDARD
END:VTIMEZONE
BEGIN:VEVENT
DTSTART;TZID="UTC":20170620T183000
DTEND;TZID="UTC":20170620T200000
DTSTAMP:20260422T230609
CREATED:20170522T161413Z
LAST-MODIFIED:20170522T161413Z
UID:4785-1497983400-1497988800@www.warwickrotary.org.uk
SUMMARY:Schools Concert in St. Mary's Church
DESCRIPTION:The Rotary Club of Warwick\, in partnership with the County School Music Service\, presents a \nMid-Summer Concert\nin St. Mary’s Collegiate Church\, Warwick on Tuesday 20th June 2017. \nMusic will be performed by pupils from many local schools  including Aylesford\, Budbrooke\, Emscote All Saints\, Newburgh\, Ridgeway\, Warwick\, Westgate & Woodloes \nThe concert\, which is held annually\, produces first class music in delightful surroundings\, and it is a joy to see the enthusiasm and listen to the high quality sounds produced by the youngsters. \nThe concert starts at 6.30pm and will finish at 8pm.   The doors open at 5.45pm and there will be an organ recital before the concert begins. \nTickets are £5 (Children under 16 £1) and can be obtained from all participating schools. \n  \n  \n  \n  \n  \n  \n  \n
URL:https://www.warwickrotary.org.uk/event/schools-concert-in-st-marys-church/
LOCATION:St. Mary’s Church\, Church Street\, Warwick\, CV34\, United Kingdom
CATEGORIES:Outside event
END:VEVENT
END:VCALENDAR