BEGIN:VCALENDAR
VERSION:2.0
PRODID:-//Rotary Club Of Warwick - ECPv4.9.4//NONSGML v1.0//EN
CALSCALE:GREGORIAN
METHOD:PUBLISH
X-WR-CALNAME:Rotary Club Of Warwick
X-ORIGINAL-URL:https://www.warwickrotary.org.uk
X-WR-CALDESC:Events for Rotary Club Of Warwick
BEGIN:VTIMEZONE
TZID:"UTC"
BEGIN:STANDARD
TZOFFSETFROM:+0000
TZOFFSETTO:+0000
TZNAME:UTC
DTSTART:20240101T000000
END:STANDARD
END:VTIMEZONE
BEGIN:VEVENT
DTSTART;TZID="UTC":20240618T180000
DTEND;TZID="UTC":20240618T203000
DTSTAMP:20260421T195331
CREATED:20240207T101809Z
LAST-MODIFIED:20240207T101809Z
UID:9174-1718733600-1718742600@www.warwickrotary.org.uk
SUMMARY:Schools Midsummer Concert in St Marys
DESCRIPTION:Annual schools concert in St Marys\, Warwick\, provides an opportunity for local schools to perform. \nGreat evening of singing and musicianship – which is inspiring to witness the joy of the young people. \nTickets on sale from local schools\, all proceeds recycled into supporting music in local schools. \n \n
URL:https://www.warwickrotary.org.uk/event/schools-midsummer-concert-in-st-marys/
LOCATION:St Marys Collegiate Church\, Warwick\, Church Street\, Warwkck
CATEGORIES:Outside event
ORGANIZER;CN="Laurie%20Day%2C%2001926%20410%20891":MAILTO:laurieday34@gmail.com
END:VEVENT
END:VCALENDAR